BEGIN:VCALENDAR
VERSION:2.0
PRODID:-//DIOCESI DI ROMA - ECPv4.6.14.1//NONSGML v1.0//EN
CALSCALE:GREGORIAN
METHOD:PUBLISH
X-WR-CALNAME:DIOCESI DI ROMA
X-ORIGINAL-URL:https://www.diocesidiroma.it
X-WR-CALDESC:Eventi per DIOCESI DI ROMA
BEGIN:VEVENT
DTSTART;TZID=Europe/Rome:20181111T113000
DTEND;TZID=Europe/Rome:20181111T113000
DTSTAMP:20260422T054931
CREATED:20181105T075533Z
LAST-MODIFIED:20181105T075533Z
UID:5414-1541935800-1541935800@www.diocesidiroma.it
SUMMARY:Celebra la Messa a San Stanislao
DESCRIPTION:Celebra la Messa a San Stanislao. \n
URL:https://www.diocesidiroma.it/event/celebra-la-messa-a-san-stanislao/
CATEGORIES:NON USARE --- Agenda del Vicario
END:VEVENT
END:VCALENDAR