BEGIN:VCALENDAR
VERSION:2.0
PRODID:-//DIOCESI DI ROMA - ECPv4.6.14.1//NONSGML v1.0//EN
CALSCALE:GREGORIAN
METHOD:PUBLISH
X-WR-CALNAME:DIOCESI DI ROMA
X-ORIGINAL-URL:https://www.diocesidiroma.it
X-WR-CALDESC:Eventi per DIOCESI DI ROMA
BEGIN:VEVENT
DTSTART;TZID=Europe/Rome:20241114T183000
DTEND;TZID=Europe/Rome:20241114T183000
DTSTAMP:20260424T035651
CREATED:20241110T153953Z
LAST-MODIFIED:20241110T153953Z
UID:31840-1731609000-1731609000@www.diocesidiroma.it
SUMMARY:Celebra la Messa a Santa Maria delle Grazie al Trionfale
DESCRIPTION:Celebra la Messa a Santa Maria delle Grazie al Trionfale \n
URL:https://www.diocesidiroma.it/event/celebra-la-messa-a-santa-maria-delle-grazie-al-trionfale/
CATEGORIES:Vicario Generale
END:VEVENT
END:VCALENDAR