BEGIN:VCALENDAR
VERSION:2.0
PRODID:-//DIOCESI DI ROMA - ECPv4.6.14.1//NONSGML v1.0//EN
CALSCALE:GREGORIAN
METHOD:PUBLISH
X-WR-CALNAME:DIOCESI DI ROMA
X-ORIGINAL-URL:https://www.diocesidiroma.it
X-WR-CALDESC:Eventi per DIOCESI DI ROMA
BEGIN:VEVENT
DTSTART;TZID=Europe/Rome:20180908T083000
DTEND;TZID=Europe/Rome:20180908T093000
DTSTAMP:20260420T200527
CREATED:20180831T101320Z
LAST-MODIFIED:20180831T101508Z
UID:4240-1536395400-1536399000@www.diocesidiroma.it
SUMMARY:Celebra la Messa a Santa Maria Maggiore in occasione del Corso di formazione per i vescovi ordinati negli ultimi dodici mesi
DESCRIPTION:Celebra la messa nella basilica papale di Santa Maria Maggiore in occasione del Corso di formazione per i vescovi ordinati negli ultimi dodici mesi organizzato dalla Congregazione per i vescovi. \n
URL:https://www.diocesidiroma.it/event/celebra-la-messa-a-santa-maria-maggiore-in-occasione-del-corso-di-formazione-per-i-vescovi-ordinati-negli-ultimi-dodici-mesi/
CATEGORIES:NON USARE --- Agenda del Vicario
END:VEVENT
END:VCALENDAR