BEGIN:VCALENDAR
VERSION:2.0
PRODID:-//DIOCESI DI ROMA - ECPv4.6.14.1//NONSGML v1.0//EN
CALSCALE:GREGORIAN
METHOD:PUBLISH
X-WR-CALNAME:DIOCESI DI ROMA
X-ORIGINAL-URL:https://www.diocesidiroma.it
X-WR-CALDESC:Eventi per DIOCESI DI ROMA
BEGIN:VEVENT
DTSTART;TZID=Europe/Rome:20181218T180000
DTEND;TZID=Europe/Rome:20181218T180000
DTSTAMP:20260422T060102
CREATED:20181214T091137Z
LAST-MODIFIED:20181214T091137Z
UID:5863-1545156000-1545156000@www.diocesidiroma.it
SUMMARY:Celebra la Messa al Centro italiano di solidarietà don Mario Picchi in occasione del Natale
DESCRIPTION:Celebra la Messa al Centro italiano di solidarietà don Mario Picchi in occasione del Natale.  \n
URL:https://www.diocesidiroma.it/event/celebra-la-messa-al-centro-italiano-di-solidarieta-don-mario-picchi-in-occasione-del-natale/
CATEGORIES:NON USARE --- Agenda del Vicario
END:VEVENT
END:VCALENDAR