BEGIN:VCALENDAR
VERSION:2.0
PRODID:-//DIOCESI DI ROMA - ECPv4.6.14.1//NONSGML v1.0//EN
CALSCALE:GREGORIAN
METHOD:PUBLISH
X-WR-CALNAME:DIOCESI DI ROMA
X-ORIGINAL-URL:https://www.diocesidiroma.it
X-WR-CALDESC:Eventi per DIOCESI DI ROMA
BEGIN:VEVENT
DTSTART;TZID=Europe/Rome:20250914T093000
DTEND;TZID=Europe/Rome:20250914T093000
DTSTAMP:20260422T211114
CREATED:20250905T082737Z
LAST-MODIFIED:20250905T082737Z
UID:36768-1757842200-1757842200@www.diocesidiroma.it
SUMMARY:Celebra la Messa al Cimitero Laurentino
DESCRIPTION:Celebra la Messa al Cimitero Laurentino \n
URL:https://www.diocesidiroma.it/event/celebra-la-messa-al-cimitero-laurentino/
CATEGORIES:Vicario Generale
END:VEVENT
END:VCALENDAR