BEGIN:VCALENDAR
VERSION:2.0
PRODID:-//DIOCESI DI ROMA - ECPv4.6.14.1//NONSGML v1.0//EN
CALSCALE:GREGORIAN
METHOD:PUBLISH
X-WR-CALNAME:DIOCESI DI ROMA
X-ORIGINAL-URL:https://www.diocesidiroma.it
X-WR-CALDESC:Eventi per DIOCESI DI ROMA
BEGIN:VEVENT
DTSTART;TZID=Europe/Rome:20230214T183000
DTEND;TZID=Europe/Rome:20230214T183000
DTSTAMP:20260422T183146
CREATED:20230210T111156Z
LAST-MODIFIED:20230210T111156Z
UID:25263-1676399400-1676399400@www.diocesidiroma.it
SUMMARY:Celebra la Messa al Collegio Diocesano Redemptoris Mater in occasione della festa dei Santi Cirillo e Metodio.
DESCRIPTION:Celebra la Messa al Collegio Diocesano Redemptoris Mater in occasione della festa dei Santi Cirillo e Metodio. \n
URL:https://www.diocesidiroma.it/event/celebra-la-messa-al-collegio-diocesano-redemptoris-mater-in-occasione-della-festa-dei-santi-cirillo-e-metodio-4/
CATEGORIES:NON USARE --- Agenda del Vicario
END:VEVENT
END:VCALENDAR