BEGIN:VCALENDAR
VERSION:2.0
PRODID:-//DIOCESI DI ROMA - ECPv4.6.14.1//NONSGML v1.0//EN
CALSCALE:GREGORIAN
METHOD:PUBLISH
X-WR-CALNAME:DIOCESI DI ROMA
X-ORIGINAL-URL:https://www.diocesidiroma.it
X-WR-CALDESC:Eventi per DIOCESI DI ROMA
BEGIN:VEVENT
DTSTART;TZID=Europe/Rome:20200311T190000
DTEND;TZID=Europe/Rome:20200311T190000
DTSTAMP:20260421T093811
CREATED:20200310T100033Z
LAST-MODIFIED:20200310T100115Z
UID:10307-1583953200-1583953200@www.diocesidiroma.it
SUMMARY:Celebra la Messa al Divino Amore senza la presenza di fedeli\, trasmessa in diretta su Telepace e Tv2000 e in streaming sulla pagina Facebook della diocesi
DESCRIPTION:Celebra la Messa al Divino Amore senza la presenza di fedeli\, trasmessa in diretta su Telepace e Tv2000 e in streaming sulla pagina Facebook della diocesi. \n
URL:https://www.diocesidiroma.it/event/celebra-la-messa-al-divino-amore-senza-la-presenza-di-fedeli-trasmessa-in-diretta-su-telepace-e-tv2000-e-in-streaming-sulla-pagina-facebook-della-diocesi/
CATEGORIES:NON USARE --- Agenda del Vicario
END:VEVENT
END:VCALENDAR