BEGIN:VCALENDAR
VERSION:2.0
PRODID:-//DIOCESI DI ROMA - ECPv4.6.14.1//NONSGML v1.0//EN
CALSCALE:GREGORIAN
METHOD:PUBLISH
X-WR-CALNAME:DIOCESI DI ROMA
X-ORIGINAL-URL:https://www.diocesidiroma.it
X-WR-CALDESC:Eventi per DIOCESI DI ROMA
BEGIN:VEVENT
DTSTART;TZID=Europe/Rome:20190309T110000
DTEND;TZID=Europe/Rome:20190309T110000
DTSTAMP:20260422T183139
CREATED:20190301T073443Z
LAST-MODIFIED:20190301T073443Z
UID:6865-1552129200-1552129200@www.diocesidiroma.it
SUMMARY:Celebra la Messa al Monastero di Tor de’ Specchi delle Suore Oblate di santa Francesca Romana in occasione della ricorrenza della festa patronale
DESCRIPTION:Celebra la Messa al Monastero di Tor de’ Specchi delle Suore Oblate di santa Francesca Romana in occasione della ricorrenza della festa patronale. \n
URL:https://www.diocesidiroma.it/event/celebra-la-messa-al-monastero-di-tor-de-specchi-delle-suore-oblate-di-santa-francesca-romana-in-occasione-della-ricorrenza-della-festa-patronale/
CATEGORIES:NON USARE --- Agenda del Vicario
END:VEVENT
END:VCALENDAR