BEGIN:VCALENDAR
VERSION:2.0
PRODID:-//DIOCESI DI ROMA - ECPv4.6.14.1//NONSGML v1.0//EN
CALSCALE:GREGORIAN
METHOD:PUBLISH
X-WR-CALNAME:DIOCESI DI ROMA
X-ORIGINAL-URL:https://www.diocesidiroma.it
X-WR-CALDESC:Eventi per DIOCESI DI ROMA
BEGIN:VEVENT
DTSTART;TZID=Europe/Rome:20181127T170000
DTEND;TZID=Europe/Rome:20181127T170000
DTSTAMP:20260422T141711
CREATED:20181123T091341Z
LAST-MODIFIED:20181123T091341Z
UID:5637-1543338000-1543338000@www.diocesidiroma.it
SUMMARY:Celebra la Messa al Pontificio Collegio Leoniano in occasione della solennità della Medaglia Miracolosa
DESCRIPTION:Celebra la Messa al Pontificio Collegio Leoniano in occasione della solennità della Medaglia Miracolosa. \n
URL:https://www.diocesidiroma.it/event/celebra-la-messa-al-pontificio-collegio-leoniano-in-occasione-della-solennita-della-medaglia-miracolosa/
CATEGORIES:NON USARE --- Agenda del Vicario
END:VEVENT
END:VCALENDAR