BEGIN:VCALENDAR
VERSION:2.0
PRODID:-//DIOCESI DI ROMA - ECPv4.6.14.1//NONSGML v1.0//EN
CALSCALE:GREGORIAN
METHOD:PUBLISH
X-WR-CALNAME:DIOCESI DI ROMA
X-ORIGINAL-URL:https://www.diocesidiroma.it
X-WR-CALDESC:Eventi per DIOCESI DI ROMA
BEGIN:VEVENT
DTSTART;TZID=Europe/Rome:20181219T190000
DTEND;TZID=Europe/Rome:20181219T190000
DTSTAMP:20260422T085405
CREATED:20181214T091238Z
LAST-MODIFIED:20181214T091238Z
UID:5865-1545246000-1545246000@www.diocesidiroma.it
SUMMARY:Celebra la Messa al Pontificio Seminario Romano Maggiore in occasione del Natale
DESCRIPTION:Celebra la Messa al Pontificio Seminario Romano Maggiore in occasione del Natale. \n
URL:https://www.diocesidiroma.it/event/celebra-la-messa-al-pontificio-seminario-romano-maggiore-in-occasione-del-natale/
CATEGORIES:NON USARE --- Agenda del Vicario
END:VEVENT
END:VCALENDAR