BEGIN:VCALENDAR
VERSION:2.0
PRODID:-//DIOCESI DI ROMA - ECPv4.6.14.1//NONSGML v1.0//EN
CALSCALE:GREGORIAN
METHOD:PUBLISH
X-WR-CALNAME:DIOCESI DI ROMA
X-ORIGINAL-URL:https://www.diocesidiroma.it
X-WR-CALDESC:Eventi per DIOCESI DI ROMA
BEGIN:VEVENT
DTSTART;TZID=Europe/Rome:20200222T110000
DTEND;TZID=Europe/Rome:20200222T110000
DTSTAMP:20260422T100246
CREATED:20200214T090050Z
LAST-MODIFIED:20200214T090050Z
UID:10030-1582369200-1582369200@www.diocesidiroma.it
SUMMARY:Celebra la Messa al Pontificio Seminario Romano Maggiore in occasione della Festa della Madonna della Fiducia
DESCRIPTION:Celebra la Messa al Pontificio Seminario Romano Maggiore in occasione della Festa della Madonna della Fiducia. \n
URL:https://www.diocesidiroma.it/event/celebra-la-messa-al-pontificio-seminario-romano-maggiore-in-occasione-della-festa-della-madonna-della-fiducia-2/
CATEGORIES:NON USARE --- Agenda del Vicario
END:VEVENT
END:VCALENDAR