BEGIN:VCALENDAR
VERSION:2.0
PRODID:-//DIOCESI DI ROMA - ECPv4.6.14.1//NONSGML v1.0//EN
CALSCALE:GREGORIAN
METHOD:PUBLISH
X-WR-CALNAME:DIOCESI DI ROMA
X-ORIGINAL-URL:https://www.diocesidiroma.it
X-WR-CALDESC:Eventi per DIOCESI DI ROMA
BEGIN:VEVENT
DTSTART;TZID=Europe/Rome:20190505T120000
DTEND;TZID=Europe/Rome:20190505T120000
DTSTAMP:20260422T100242
CREATED:20190426T071415Z
LAST-MODIFIED:20190426T071415Z
UID:7426-1557057600-1557057600@www.diocesidiroma.it
SUMMARY:Celebra la Messa al Santuario della Madonna del Divino Amore in occasione della Festa della Famiglia
DESCRIPTION:Celebra la Messa al Santuario della Madonna del Divino Amore in occasione della Festa della Famiglia.  \n
URL:https://www.diocesidiroma.it/event/celebra-la-messa-al-santuario-della-madonna-del-divino-amore-in-occasione-della-festa-della-famiglia/
CATEGORIES:NON USARE --- Agenda del Vicario
END:VEVENT
END:VCALENDAR