BEGIN:VCALENDAR
VERSION:2.0
PRODID:-//DIOCESI DI ROMA - ECPv4.6.14.1//NONSGML v1.0//EN
CALSCALE:GREGORIAN
METHOD:PUBLISH
X-WR-CALNAME:DIOCESI DI ROMA
X-ORIGINAL-URL:https://www.diocesidiroma.it
X-WR-CALDESC:Eventi per DIOCESI DI ROMA
BEGIN:VEVENT
DTSTART;TZID=Europe/Rome:20200102T120000
DTEND;TZID=Europe/Rome:20200102T120000
DTSTAMP:20260422T113645
CREATED:20191220T091954Z
LAST-MODIFIED:20191220T091954Z
UID:9627-1577966400-1577966400@www.diocesidiroma.it
SUMMARY:Celebra la Messa al Santuario della Madonna del Divino Amore in occasione della Giornata Terenziana
DESCRIPTION:Celebra la Messa al Santuario della Madonna del Divino Amore in occasione della Giornata Terenziana. \n
URL:https://www.diocesidiroma.it/event/celebra-la-messa-al-santuario-della-madonna-del-divino-amore-in-occasione-della-giornata-terenziana/
CATEGORIES:NON USARE --- Agenda del Vicario
END:VEVENT
END:VCALENDAR