BEGIN:VCALENDAR
VERSION:2.0
PRODID:-//DIOCESI DI ROMA - ECPv4.6.14.1//NONSGML v1.0//EN
CALSCALE:GREGORIAN
METHOD:PUBLISH
X-WR-CALNAME:DIOCESI DI ROMA
X-ORIGINAL-URL:https://www.diocesidiroma.it
X-WR-CALDESC:Eventi per DIOCESI DI ROMA
BEGIN:VEVENT
DTSTART;TZID=Europe/Rome:20190127T053000
DTEND;TZID=Europe/Rome:20190127T053000
DTSTAMP:20260421T044114
CREATED:20190118T094403Z
LAST-MODIFIED:20190118T094403Z
UID:6171-1548567000-1548567000@www.diocesidiroma.it
SUMMARY:Celebra la Messa al Santuario Madonna del Divino Amore in occasione della Giornata mondiale della gioventù
DESCRIPTION:Celebra la Messa al Santuario Madonna del Divino Amore in occasione della Giornata mondiale della gioventù. \n
URL:https://www.diocesidiroma.it/event/celebra-la-messa-al-santuario-madonna-del-divino-amore-in-occasione-della-giornata-mondiale-della-gioventu/
CATEGORIES:NON USARE --- Agenda del Vicario
END:VEVENT
END:VCALENDAR