BEGIN:VCALENDAR
VERSION:2.0
PRODID:-//DIOCESI DI ROMA - ECPv4.6.14.1//NONSGML v1.0//EN
CALSCALE:GREGORIAN
METHOD:PUBLISH
X-WR-CALNAME:DIOCESI DI ROMA
X-ORIGINAL-URL:https://www.diocesidiroma.it
X-WR-CALDESC:Eventi per DIOCESI DI ROMA
BEGIN:VEVENT
DTSTART;TZID=Europe/Rome:20210708T100000
DTEND;TZID=Europe/Rome:20210708T100000
DTSTAMP:20260422T130945
CREATED:20210702T081130Z
LAST-MODIFIED:20210702T081130Z
UID:16796-1625738400-1625738400@www.diocesidiroma.it
SUMMARY:Celebra la Messa all’Abbazia delle Tre Fontane in occasione della Solennità del Beato Eugenio III Papa
DESCRIPTION:Celebra la Messa all’Abbazia delle Tre Fontane in occasione della Solennità del Beato Eugenio III Papa. \n
URL:https://www.diocesidiroma.it/event/celebra-la-messa-allabbazia-delle-tre-fontane-in-occasione-della-solennita-del-beato-eugenio-iii-papa/
CATEGORIES:NON USARE --- Agenda del Vicario
END:VEVENT
END:VCALENDAR