BEGIN:VCALENDAR
VERSION:2.0
PRODID:-//DIOCESI DI ROMA - ECPv4.6.14.1//NONSGML v1.0//EN
CALSCALE:GREGORIAN
METHOD:PUBLISH
X-WR-CALNAME:DIOCESI DI ROMA
X-ORIGINAL-URL:https://www.diocesidiroma.it
X-WR-CALDESC:Eventi per DIOCESI DI ROMA
BEGIN:VEVENT
DTSTART;TZID=Europe/Rome:20210121T113000
DTEND;TZID=Europe/Rome:20210121T113000
DTSTAMP:20260421T133902
CREATED:20210115T124353Z
LAST-MODIFIED:20210115T124357Z
UID:13157-1611228600-1611228600@www.diocesidiroma.it
SUMMARY:Celebra la Messa all’Almo Collegio Capranica in occasione della festa di sant’Agnese
DESCRIPTION:Celebra la Messa all’Almo Collegio Capranica in occasione della festa di sant’Agnese. \n
URL:https://www.diocesidiroma.it/event/celebra-la-messa-allalmo-collegio-capranica-in-occasione-della-festa-di-santagnese/
CATEGORIES:NON USARE --- Agenda del Vicario
END:VEVENT
END:VCALENDAR