BEGIN:VCALENDAR
VERSION:2.0
PRODID:-//DIOCESI DI ROMA - ECPv4.6.14.1//NONSGML v1.0//EN
CALSCALE:GREGORIAN
METHOD:PUBLISH
X-WR-CALNAME:DIOCESI DI ROMA
X-ORIGINAL-URL:https://www.diocesidiroma.it
X-WR-CALDESC:Eventi per DIOCESI DI ROMA
BEGIN:VEVENT
DTSTART;TZID=Europe/Rome:20210529T183000
DTEND;TZID=Europe/Rome:20210529T183000
DTSTAMP:20260422T180002
CREATED:20210521T081305Z
LAST-MODIFIED:20210521T081416Z
UID:15852-1622313000-1622313000@www.diocesidiroma.it
SUMMARY:Celebra la Messa all’Almo Collegio Capranica in occasione dell’Ammissione agli Ordini Sacri
DESCRIPTION:Celebra la Messa all’Almo Collegio Capranica in occasione dell’Ammissione agli Ordini Sacri. \n
URL:https://www.diocesidiroma.it/event/celebra-la-messa-allalmo-collegio-capranica-in-occasione-dellammissione-agli-ordini-sacri/
CATEGORIES:NON USARE --- Agenda del Vicario
END:VEVENT
END:VCALENDAR