BEGIN:VCALENDAR
VERSION:2.0
PRODID:-//DIOCESI DI ROMA - ECPv4.6.14.1//NONSGML v1.0//EN
CALSCALE:GREGORIAN
METHOD:PUBLISH
X-WR-CALNAME:DIOCESI DI ROMA
X-ORIGINAL-URL:https://www.diocesidiroma.it
X-WR-CALDESC:Eventi per DIOCESI DI ROMA
BEGIN:VEVENT
DTSTART;TZID=Europe/Rome:20181214T113000
DTEND;TZID=Europe/Rome:20181214T113000
DTSTAMP:20260421T112400
CREATED:20181207T084915Z
LAST-MODIFIED:20181207T085007Z
UID:5785-1544787000-1544787000@www.diocesidiroma.it
SUMMARY:Celebra la Messa all’Ospedale San Giovanni Addolorata in occasione del 60° anniversario dell'inaugurazione della struttura
DESCRIPTION:Celebra la Messa all’Ospedale San Giovanni Addolorata in occasione del 60° anniversario dell’inaugurazione della struttura. \n
URL:https://www.diocesidiroma.it/event/celebra-la-messa-allospedale-san-giovanni-addolorata-in-occasione-del-60-anniversario-dellinaugurazione-della-struttura/
CATEGORIES:NON USARE --- Agenda del Vicario
END:VEVENT
END:VCALENDAR