BEGIN:VCALENDAR
VERSION:2.0
PRODID:-//DIOCESI DI ROMA - ECPv4.6.14.1//NONSGML v1.0//EN
CALSCALE:GREGORIAN
METHOD:PUBLISH
X-WR-CALNAME:DIOCESI DI ROMA
X-ORIGINAL-URL:https://www.diocesidiroma.it
X-WR-CALDESC:Eventi per DIOCESI DI ROMA
BEGIN:VEVENT
DTSTART;TZID=Europe/Rome:20191001T103000
DTEND;TZID=Europe/Rome:20191001T103000
DTSTAMP:20260422T162052
CREATED:20191025T090518Z
LAST-MODIFIED:20191025T090527Z
UID:9126-1569925800-1569925800@www.diocesidiroma.it
SUMMARY:Celebra la Messa Capitolare nella basilica di San Giovanni in Laterano
DESCRIPTION:Celebra la Messa Capitolare nella basilica di San Giovanni in Laterano. \n
URL:https://www.diocesidiroma.it/event/celebra-la-messa-capitolare-nella-basilica-di-san-giovanni-in-laterano/
CATEGORIES:NON USARE --- Agenda del Vicario
END:VEVENT
END:VCALENDAR