BEGIN:VCALENDAR
VERSION:2.0
PRODID:-//DIOCESI DI ROMA - ECPv4.6.14.1//NONSGML v1.0//EN
CALSCALE:GREGORIAN
METHOD:PUBLISH
X-WR-CALNAME:DIOCESI DI ROMA
X-ORIGINAL-URL:https://www.diocesidiroma.it
X-WR-CALDESC:Eventi per DIOCESI DI ROMA
BEGIN:VEVENT
DTSTART;TZID=Europe/Rome:20241110T163000
DTEND;TZID=Europe/Rome:20241110T163000
DTSTAMP:20260422T060607
CREATED:20241031T083455Z
LAST-MODIFIED:20241031T083455Z
UID:31648-1731256200-1731256200@www.diocesidiroma.it
SUMMARY:Celebra la Messa e visita la parrocchia di Nostra Signora di Valme
DESCRIPTION:Celebra la Messa e visita la parrocchia di Nostra Signora di Valme \n
URL:https://www.diocesidiroma.it/event/celebra-la-messa-e-visita-la-parrocchia-di-nostra-signora-di-valme/
CATEGORIES:Vicario Generale
END:VEVENT
END:VCALENDAR