BEGIN:VCALENDAR
VERSION:2.0
PRODID:-//DIOCESI DI ROMA - ECPv4.6.14.1//NONSGML v1.0//EN
CALSCALE:GREGORIAN
METHOD:PUBLISH
X-WR-CALNAME:DIOCESI DI ROMA
X-ORIGINAL-URL:https://www.diocesidiroma.it
X-WR-CALDESC:Eventi per DIOCESI DI ROMA
BEGIN:VEVENT
DTSTART;TZID=Europe/Rome:20210913T180000
DTEND;TZID=Europe/Rome:20210913T180000
DTSTAMP:20260422T085447
CREATED:20210910T111517Z
LAST-MODIFIED:20210910T111517Z
UID:17818-1631556000-1631556000@www.diocesidiroma.it
SUMMARY:Celebra la Messa ed incontra le équipe pastorali nella parrocchia di Santa Maria Addolorata
DESCRIPTION:Celebra la Messa ed incontra le équipe pastorali nella parrocchia di Santa Maria Addolorata \n
URL:https://www.diocesidiroma.it/event/celebra-la-messa-ed-incontra-le-equipe-pastorali-nella-parrocchia-di-santa-maria-addolorata/
CATEGORIES:NON USARE --- Agenda del Vicario
END:VEVENT
END:VCALENDAR