BEGIN:VCALENDAR
VERSION:2.0
PRODID:-//DIOCESI DI ROMA - ECPv4.6.14.1//NONSGML v1.0//EN
CALSCALE:GREGORIAN
METHOD:PUBLISH
X-WR-CALNAME:DIOCESI DI ROMA
X-ORIGINAL-URL:https://www.diocesidiroma.it
X-WR-CALDESC:Eventi per DIOCESI DI ROMA
BEGIN:VEVENT
DTSTART;TZID=Europe/Rome:20190509T100000
DTEND;TZID=Europe/Rome:20190509T100000
DTSTAMP:20260422T085056
CREATED:20190503T094413Z
LAST-MODIFIED:20190503T094413Z
UID:7471-1557396000-1557396000@www.diocesidiroma.it
SUMMARY:Celebra la Messa in Campidoglio in occasione del Natale di Roma
DESCRIPTION:Celebra la Messa in Campidoglio in occasione del Natale di Roma. \n
URL:https://www.diocesidiroma.it/event/celebra-la-messa-in-campidoglio-in-occasione-del-natale-di-roma/
CATEGORIES:NON USARE --- Agenda del Vicario
END:VEVENT
END:VCALENDAR