BEGIN:VCALENDAR
VERSION:2.0
PRODID:-//DIOCESI DI ROMA - ECPv4.6.14.1//NONSGML v1.0//EN
CALSCALE:GREGORIAN
METHOD:PUBLISH
X-WR-CALNAME:DIOCESI DI ROMA
X-ORIGINAL-URL:https://www.diocesidiroma.it
X-WR-CALDESC:Eventi per DIOCESI DI ROMA
BEGIN:VEVENT
DTSTART;TZID=Europe/Rome:20201217T170000
DTEND;TZID=Europe/Rome:20201217T170000
DTSTAMP:20260421T005815
CREATED:20201211T122305Z
LAST-MODIFIED:20201211T122324Z
UID:12792-1608224400-1608224400@www.diocesidiroma.it
SUMMARY:Celebra la Messa in preparazione al Natale all’Ospedale di San Carlo di Nancy
DESCRIPTION:Celebra la Messa in preparazione al Natale all’Ospedale di San Carlo di Nancy. \n
URL:https://www.diocesidiroma.it/event/celebra-la-messa-in-preparazione-al-natale-allospedale-di-san-carlo-di-nancy/
CATEGORIES:NON USARE --- Agenda del Vicario
END:VEVENT
END:VCALENDAR