BEGIN:VCALENDAR
VERSION:2.0
PRODID:-//DIOCESI DI ROMA - ECPv4.6.14.1//NONSGML v1.0//EN
CALSCALE:GREGORIAN
METHOD:PUBLISH
X-WR-CALNAME:DIOCESI DI ROMA
X-ORIGINAL-URL:https://www.diocesidiroma.it
X-WR-CALDESC:Eventi per DIOCESI DI ROMA
BEGIN:VEVENT
DTSTART;TZID=Europe/Rome:20190118T070000
DTEND;TZID=Europe/Rome:20190118T070000
DTSTAMP:20260421T075531
CREATED:20190114T082411Z
LAST-MODIFIED:20190114T082411Z
UID:6071-1547794800-1547794800@www.diocesidiroma.it
SUMMARY:Celebra la Messa nel monastero delle Suore della Croce del Sacro Cuore di  Gesù
DESCRIPTION:Celebra la Messa nel monastero delle Suore della Croce del Sacro Cuore di  Gesù. \n
URL:https://www.diocesidiroma.it/event/celebra-la-messa-nel-monastero-delle-suore-della-croce-del-sacro-cuore-di-gesu/
CATEGORIES:NON USARE --- Agenda del Vicario
END:VEVENT
END:VCALENDAR