BEGIN:VCALENDAR
VERSION:2.0
PRODID:-//DIOCESI DI ROMA - ECPv4.6.14.1//NONSGML v1.0//EN
CALSCALE:GREGORIAN
METHOD:PUBLISH
X-WR-CALNAME:DIOCESI DI ROMA
X-ORIGINAL-URL:https://www.diocesidiroma.it
X-WR-CALDESC:Eventi per DIOCESI DI ROMA
BEGIN:VEVENT
DTSTART;TZID=Europe/Rome:20190219T180000
DTEND;TZID=Europe/Rome:20190219T180000
DTSTAMP:20260421T110608
CREATED:20190215T110101Z
LAST-MODIFIED:20190215T110101Z
UID:6574-1550599200-1550599200@www.diocesidiroma.it
SUMMARY:Celebra la Messa nella basilica cattedrale Maria Santissima Assunta di Nardò in occasione di San Gregorio Armeno patrono della diocesi
DESCRIPTION:Celebra la Messa nella basilica cattedrale Maria Santissima Assunta di Nardò in occasione di San Gregorio Armeno patrono della diocesi. \n
URL:https://www.diocesidiroma.it/event/celebra-la-messa-nella-basilica-cattedrale-maria-santissima-assunta-di-nardo-in-occasione-di-san-gregorio-armeno-patrono-della-diocesi/
CATEGORIES:NON USARE --- Agenda del Vicario
END:VEVENT
END:VCALENDAR