BEGIN:VCALENDAR
VERSION:2.0
PRODID:-//DIOCESI DI ROMA - ECPv4.6.14.1//NONSGML v1.0//EN
CALSCALE:GREGORIAN
METHOD:PUBLISH
X-WR-CALNAME:DIOCESI DI ROMA
X-ORIGINAL-URL:https://www.diocesidiroma.it
X-WR-CALDESC:Eventi per DIOCESI DI ROMA
BEGIN:VEVENT
DTSTART;TZID=Europe/Rome:20221217T180000
DTEND;TZID=Europe/Rome:20221217T180000
DTSTAMP:20260420T184305
CREATED:20221209T101345Z
LAST-MODIFIED:20221209T132047Z
UID:24425-1671300000-1671300000@www.diocesidiroma.it
SUMMARY:Celebra la Messa nella Basilica di Santa Maria Maggiore in occasione del Presepe vivente di Roma
DESCRIPTION:Celebra la Messa nella Basilica di Santa Maria Maggiore in occasione del Presepe vivente di Roma. \n
URL:https://www.diocesidiroma.it/event/celebra-la-messa-nella-basilica-di-santa-maria-maggiore-in-occasione-del-presepe-vivente-di-roma/
CATEGORIES:NON USARE --- Agenda del Vicario
END:VEVENT
END:VCALENDAR