BEGIN:VCALENDAR
VERSION:2.0
PRODID:-//DIOCESI DI ROMA - ECPv4.6.14.1//NONSGML v1.0//EN
CALSCALE:GREGORIAN
METHOD:PUBLISH
X-WR-CALNAME:DIOCESI DI ROMA
X-ORIGINAL-URL:https://www.diocesidiroma.it
X-WR-CALDESC:Eventi per DIOCESI DI ROMA
BEGIN:VEVENT
DTSTART;TZID=Europe/Rome:20181207T170000
DTEND;TZID=Europe/Rome:20181207T170000
DTSTAMP:20260421T173831
CREATED:20181130T090512Z
LAST-MODIFIED:20181130T090512Z
UID:5730-1544202000-1544202000@www.diocesidiroma.it
SUMMARY:Celebra la Messa nella Casa dei Missionari della Carità in occasione del 25° anniversario della Congregazione
DESCRIPTION:Celebra la Messa nella Casa dei Missionari della Carità in occasione del 25° anniversario della Congregazione.   \n
URL:https://www.diocesidiroma.it/event/celebra-la-messa-nella-casa-dei-missionari-della-carita-in-occasione-del-25-anniversario-della-congregazione/
CATEGORIES:NON USARE --- Agenda del Vicario
END:VEVENT
END:VCALENDAR