BEGIN:VCALENDAR
VERSION:2.0
PRODID:-//DIOCESI DI ROMA - ECPv4.6.14.1//NONSGML v1.0//EN
CALSCALE:GREGORIAN
METHOD:PUBLISH
X-WR-CALNAME:DIOCESI DI ROMA
X-ORIGINAL-URL:https://www.diocesidiroma.it
X-WR-CALDESC:Eventi per DIOCESI DI ROMA
BEGIN:VEVENT
DTSTART;TZID=Europe/Rome:20210923T173000
DTEND;TZID=Europe/Rome:20210923T173000
DTSTAMP:20260421T225116
CREATED:20210917T075611Z
LAST-MODIFIED:20210917T075629Z
UID:17903-1632418200-1632418200@www.diocesidiroma.it
SUMMARY:Celebra la Messa nella Casa di Cura Nostra Signora della Mercede
DESCRIPTION:Celebra la Messa nella Casa di Cura Nostra Signora della Mercede. \n
URL:https://www.diocesidiroma.it/event/celebra-la-messa-nella-casa-di-cura-nostra-signora-della-mercede/
CATEGORIES:NON USARE --- Agenda del Vicario
END:VEVENT
END:VCALENDAR