BEGIN:VCALENDAR
VERSION:2.0
PRODID:-//DIOCESI DI ROMA - ECPv4.6.14.1//NONSGML v1.0//EN
CALSCALE:GREGORIAN
METHOD:PUBLISH
X-WR-CALNAME:DIOCESI DI ROMA
X-ORIGINAL-URL:https://www.diocesidiroma.it
X-WR-CALDESC:Eventi per DIOCESI DI ROMA
BEGIN:VEVENT
DTSTART;TZID=Europe/Rome:20190723T180000
DTEND;TZID=Europe/Rome:20190723T180000
DTSTAMP:20260422T100808
CREATED:20190718T114205Z
LAST-MODIFIED:20190718T114212Z
UID:8091-1563904800-1563904800@www.diocesidiroma.it
SUMMARY:Celebra la Messa nella chiesa della Casa di Santa Brigida in occasione della festa patronale
DESCRIPTION:Celebra la Messa nella chiesa della Casa di Santa Brigida in occasione della festa patronale. \n
URL:https://www.diocesidiroma.it/event/celebra-la-messa-nella-chiesa-della-casa-di-santa-brigida-in-occasione-della-festa-patronale/
CATEGORIES:NON USARE --- Agenda del Vicario
END:VEVENT
END:VCALENDAR