BEGIN:VCALENDAR
VERSION:2.0
PRODID:-//DIOCESI DI ROMA - ECPv4.6.14.1//NONSGML v1.0//EN
CALSCALE:GREGORIAN
METHOD:PUBLISH
X-WR-CALNAME:DIOCESI DI ROMA
X-ORIGINAL-URL:https://www.diocesidiroma.it
X-WR-CALDESC:Eventi per DIOCESI DI ROMA
BEGIN:VEVENT
DTSTART;TZID=Europe/Rome:20220201T170000
DTEND;TZID=Europe/Rome:20220201T170000
DTSTAMP:20260421T030215
CREATED:20220129T155238Z
LAST-MODIFIED:20220129T155246Z
UID:20115-1643734800-1643734800@www.diocesidiroma.it
SUMMARY:Celebra la Messa nella Chiesa dell’Immacolata della Domus Mariae in occasione del rinnovo delle promesse dei membri della Società di Vita Apostolica - Fraternità dei Figli della Croce
DESCRIPTION:Celebra la Messa nella Chiesa dell’Immacolata della Domus Mariae in occasione del rinnovo delle promesse dei membri della Società di Vita Apostolica – Fraternità dei Figli della Croce. \n
URL:https://www.diocesidiroma.it/event/celebra-la-messa-nella-chiesa-dellimmacolata-della-domus-mariae-in-occasione-del-rinnovo-delle-promesse-dei-membri-della-societa-di-vita-apostolica-fraternita-dei-figli-della-croce/
CATEGORIES:NON USARE --- Agenda del Vicario
END:VEVENT
END:VCALENDAR