BEGIN:VCALENDAR
VERSION:2.0
PRODID:-//DIOCESI DI ROMA - ECPv4.6.14.1//NONSGML v1.0//EN
CALSCALE:GREGORIAN
METHOD:PUBLISH
X-WR-CALNAME:DIOCESI DI ROMA
X-ORIGINAL-URL:https://www.diocesidiroma.it
X-WR-CALDESC:Eventi per DIOCESI DI ROMA
BEGIN:VEVENT
DTSTART;TZID=Europe/Rome:20191207T153000
DTEND;TZID=Europe/Rome:20191207T153000
DTSTAMP:20260421T093831
CREATED:20191129T083454Z
LAST-MODIFIED:20191129T083454Z
UID:9444-1575732600-1575732600@www.diocesidiroma.it
SUMMARY:Celebra la Messa nella Chiesa di Ognissanti in occasione dei voti perpetui delle Suore Missionarie della Carità
DESCRIPTION:Celebra la Messa nella Chiesa di Ognissanti in occasione dei voti perpetui delle Suore Missionarie della Carità. \n
URL:https://www.diocesidiroma.it/event/celebra-la-messa-nella-chiesa-di-ognissanti-in-occasione-dei-voti-perpetui-delle-suore-missionarie-della-carita/
CATEGORIES:NON USARE --- Agenda del Vicario
END:VEVENT
END:VCALENDAR