BEGIN:VCALENDAR
VERSION:2.0
PRODID:-//DIOCESI DI ROMA - ECPv4.6.14.1//NONSGML v1.0//EN
CALSCALE:GREGORIAN
METHOD:PUBLISH
X-WR-CALNAME:DIOCESI DI ROMA
X-ORIGINAL-URL:https://www.diocesidiroma.it
X-WR-CALDESC:Eventi per DIOCESI DI ROMA
BEGIN:VEVENT
DTSTART;TZID=Europe/Rome:20190104T180000
DTEND;TZID=Europe/Rome:20190104T180000
DTSTAMP:20260422T001525
CREATED:20181221T095113Z
LAST-MODIFIED:20181221T095113Z
UID:5923-1546624800-1546624800@www.diocesidiroma.it
SUMMARY:Celebra la Messa nella chiesa di San Francesco a Foligno in occasione della festa di sant’Angela
DESCRIPTION:Celebra la Messa nella chiesa di San Francesco a Foligno in occasione della festa di sant’Angela.  \n
URL:https://www.diocesidiroma.it/event/celebra-la-messa-nella-chiesa-di-san-francesco-a-foligno-in-occasione-della-festa-di-santangela/
CATEGORIES:NON USARE --- Agenda del Vicario
END:VEVENT
END:VCALENDAR