BEGIN:VCALENDAR
VERSION:2.0
PRODID:-//DIOCESI DI ROMA - ECPv4.6.14.1//NONSGML v1.0//EN
CALSCALE:GREGORIAN
METHOD:PUBLISH
X-WR-CALNAME:DIOCESI DI ROMA
X-ORIGINAL-URL:https://www.diocesidiroma.it
X-WR-CALDESC:Eventi per DIOCESI DI ROMA
BEGIN:VEVENT
DTSTART;TZID=Europe/Rome:20240211T113000
DTEND;TZID=Europe/Rome:20240211T113000
DTSTAMP:20260420T220309
CREATED:20240202T094420Z
LAST-MODIFIED:20240202T094420Z
UID:28788-1707651000-1707651000@www.diocesidiroma.it
SUMMARY:Celebra la Messa nella chiesa di San Rocco all’Augusteo in occasione della memoria di Nostra Signora di Lourdes
DESCRIPTION:Celebra la Messa nella chiesa di San Rocco all’Augusteo in occasione della memoria di Nostra Signora di Lourdes. \n
URL:https://www.diocesidiroma.it/event/celebra-la-messa-nella-chiesa-di-san-rocco-allaugusteo-in-occasione-della-memoria-di-nostra-signora-di-lourdes/
CATEGORIES:NON USARE --- Agenda del Vicario
END:VEVENT
END:VCALENDAR