BEGIN:VCALENDAR
VERSION:2.0
PRODID:-//DIOCESI DI ROMA - ECPv4.6.14.1//NONSGML v1.0//EN
CALSCALE:GREGORIAN
METHOD:PUBLISH
X-WR-CALNAME:DIOCESI DI ROMA
X-ORIGINAL-URL:https://www.diocesidiroma.it
X-WR-CALDESC:Eventi per DIOCESI DI ROMA
BEGIN:VEVENT
DTSTART;TZID=Europe/Rome:20221116T190000
DTEND;TZID=Europe/Rome:20221116T190000
DTSTAMP:20260421T115951
CREATED:20221111T110610Z
LAST-MODIFIED:20221111T110610Z
UID:24033-1668625200-1668625200@www.diocesidiroma.it
SUMMARY:Celebra la Messa nella chiesa di Santa Maria Maddalena in Campo Marzio in occasione della festa di Maria Salus Infirmorum
DESCRIPTION:Celebra la Messa nella chiesa di Santa Maria Maddalena in Campo Marzio in occasione della festa di Maria Salus Infirmorum. \n
URL:https://www.diocesidiroma.it/event/celebra-la-messa-nella-chiesa-di-santa-maria-maddalena-in-campo-marzio-in-occasione-della-festa-di-maria-salus-infirmorum/
CATEGORIES:NON USARE --- Agenda del Vicario
END:VEVENT
END:VCALENDAR