BEGIN:VCALENDAR
VERSION:2.0
PRODID:-//DIOCESI DI ROMA - ECPv4.6.14.1//NONSGML v1.0//EN
CALSCALE:GREGORIAN
METHOD:PUBLISH
X-WR-CALNAME:DIOCESI DI ROMA
X-ORIGINAL-URL:https://www.diocesidiroma.it
X-WR-CALDESC:Eventi per DIOCESI DI ROMA
BEGIN:VEVENT
DTSTART;TZID=Europe/Rome:20231130T190000
DTEND;TZID=Europe/Rome:20231130T190000
DTSTAMP:20260423T182429
CREATED:20231127T082215Z
LAST-MODIFIED:20231127T082215Z
UID:28006-1701370800-1701370800@www.diocesidiroma.it
SUMMARY:Celebra la Messa nella Chiesa di Sant’Andrea della Valle in occasione della festa patronale
DESCRIPTION:Celebra la Messa nella Chiesa di Sant’Andrea della Valle in occasione della festa patronale. \n
URL:https://www.diocesidiroma.it/event/celebra-la-messa-nella-chiesa-di-santandrea-della-valle-in-occasione-della-festa-patronale/
CATEGORIES:NON USARE --- Agenda del Vicario
END:VEVENT
END:VCALENDAR