BEGIN:VCALENDAR
VERSION:2.0
PRODID:-//DIOCESI DI ROMA - ECPv4.6.14.1//NONSGML v1.0//EN
CALSCALE:GREGORIAN
METHOD:PUBLISH
X-WR-CALNAME:DIOCESI DI ROMA
X-ORIGINAL-URL:https://www.diocesidiroma.it
X-WR-CALDESC:Eventi per DIOCESI DI ROMA
BEGIN:VEVENT
DTSTART;TZID=Europe/Rome:20230903T100000
DTEND;TZID=Europe/Rome:20230903T100000
DTSTAMP:20260421T102544
CREATED:20230831T111454Z
LAST-MODIFIED:20230831T111454Z
UID:27178-1693735200-1693735200@www.diocesidiroma.it
SUMMARY:Celebra la Messa nella Domus Pacis ad Assisi in occasione dello Stage di formazione per i candidati al ministero di catechista
DESCRIPTION:Celebra la Messa nella Domus Pacis ad Assisi in occasione dello Stage di formazione per i candidati al ministero di catechista \n
URL:https://www.diocesidiroma.it/event/celebra-la-messa-nella-domus-pacis-ad-assisi-in-occasione-dello-stage-di-formazione-per-i-candidati-al-ministero-di-catechista/
CATEGORIES:NON USARE --- Agenda del Vicario
END:VEVENT
END:VCALENDAR