BEGIN:VCALENDAR
VERSION:2.0
PRODID:-//DIOCESI DI ROMA - ECPv4.6.14.1//NONSGML v1.0//EN
CALSCALE:GREGORIAN
METHOD:PUBLISH
X-WR-CALNAME:DIOCESI DI ROMA
X-ORIGINAL-URL:https://www.diocesidiroma.it
X-WR-CALDESC:Eventi per DIOCESI DI ROMA
BEGIN:VEVENT
DTSTART;TZID=Europe/Rome:20190512T190000
DTEND;TZID=Europe/Rome:20190512T190000
DTSTAMP:20260421T173405
CREATED:20190503T094935Z
LAST-MODIFIED:20190503T094935Z
UID:7485-1557687600-1557687600@www.diocesidiroma.it
SUMMARY:Celebra la Messa nella parrocchia dei Santi Antonio e Annibale Maria in occasione della Giornata mondiale per le vocazioni
DESCRIPTION:Celebra la Messa nella parrocchia dei Santi Antonio e Annibale Maria in occasione della Giornata mondiale per le vocazioni. \n
URL:https://www.diocesidiroma.it/event/celebra-la-messa-nella-parrocchia-dei-santi-antonio-e-annibale-maria-in-occasione-della-giornata-mondiale-per-le-vocazioni/
END:VEVENT
END:VCALENDAR