BEGIN:VCALENDAR
VERSION:2.0
PRODID:-//DIOCESI DI ROMA - ECPv4.6.14.1//NONSGML v1.0//EN
CALSCALE:GREGORIAN
METHOD:PUBLISH
X-WR-CALNAME:DIOCESI DI ROMA
X-ORIGINAL-URL:https://www.diocesidiroma.it
X-WR-CALDESC:Eventi per DIOCESI DI ROMA
BEGIN:VEVENT
DTSTART;TZID=Europe/Rome:20231206T183000
DTEND;TZID=Europe/Rome:20231206T183000
DTSTAMP:20260421T154124
CREATED:20231201T104002Z
LAST-MODIFIED:20231201T104002Z
UID:28059-1701887400-1701887400@www.diocesidiroma.it
SUMMARY:Celebra la Messa nella parrocchia dei Santi Apostoli in occasione della novena dell’Immacolata
DESCRIPTION:Celebra la Messa nella parrocchia dei Santi Apostoli in occasione della novena dell’Immacolata. \n
URL:https://www.diocesidiroma.it/event/celebra-la-messa-nella-parrocchia-dei-santi-apostoli-in-occasione-della-novena-dellimmacolata/
CATEGORIES:NON USARE --- Agenda del Vicario
END:VEVENT
END:VCALENDAR