BEGIN:VCALENDAR
VERSION:2.0
PRODID:-//DIOCESI DI ROMA - ECPv4.6.14.1//NONSGML v1.0//EN
CALSCALE:GREGORIAN
METHOD:PUBLISH
X-WR-CALNAME:DIOCESI DI ROMA
X-ORIGINAL-URL:https://www.diocesidiroma.it
X-WR-CALDESC:Eventi per DIOCESI DI ROMA
BEGIN:VEVENT
DTSTART;TZID=Europe/Rome:20190223T190000
DTEND;TZID=Europe/Rome:20190223T190000
DTSTAMP:20260420T195403
CREATED:20190215T110404Z
LAST-MODIFIED:20190215T110404Z
UID:6582-1550948400-1550948400@www.diocesidiroma.it
SUMMARY:Celebra la Messa nella parrocchia dei Santi Cirillo e Metodio
DESCRIPTION:Celebra la Messa nella parrocchia dei Santi Cirillo e Metodio.  \n
URL:https://www.diocesidiroma.it/event/celebra-la-messa-nella-parrocchia-dei-santi-cirillo-e-metodio/
CATEGORIES:NON USARE --- Agenda del Vicario
END:VEVENT
END:VCALENDAR