BEGIN:VCALENDAR
VERSION:2.0
PRODID:-//DIOCESI DI ROMA - ECPv4.6.14.1//NONSGML v1.0//EN
CALSCALE:GREGORIAN
METHOD:PUBLISH
X-WR-CALNAME:DIOCESI DI ROMA
X-ORIGINAL-URL:https://www.diocesidiroma.it
X-WR-CALDESC:Eventi per DIOCESI DI ROMA
BEGIN:VEVENT
DTSTART;TZID=Europe/Rome:20221202T183000
DTEND;TZID=Europe/Rome:20221202T183000
DTSTAMP:20260421T023847
CREATED:20221128T114549Z
LAST-MODIFIED:20221128T114558Z
UID:24307-1670005800-1670005800@www.diocesidiroma.it
SUMMARY:Celebra la Messa nella parrocchia dei Santi Fabiano e Venanzio in occasione della traslazione del corpo di don Andrea Santoro
DESCRIPTION:Celebra la Messa nella parrocchia dei Santi Fabiano e Venanzio in occasione della traslazione del corpo di don Andrea Santoro. \n
URL:https://www.diocesidiroma.it/event/celebra-la-messa-nella-parrocchia-dei-santi-fabiano-e-venanzio-in-occasione-della-traslazione-del-corpo-di-don-andrea-santoro/
CATEGORIES:NON USARE --- Agenda del Vicario
END:VEVENT
END:VCALENDAR