BEGIN:VCALENDAR
VERSION:2.0
PRODID:-//DIOCESI DI ROMA - ECPv4.6.14.1//NONSGML v1.0//EN
CALSCALE:GREGORIAN
METHOD:PUBLISH
X-WR-CALNAME:DIOCESI DI ROMA
X-ORIGINAL-URL:https://www.diocesidiroma.it
X-WR-CALDESC:Eventi per DIOCESI DI ROMA
BEGIN:VEVENT
DTSTART;TZID=Europe/Rome:20190618T190000
DTEND;TZID=Europe/Rome:20190618T190000
DTSTAMP:20260420T230529
CREATED:20190614T104315Z
LAST-MODIFIED:20190614T104315Z
UID:7851-1560884400-1560884400@www.diocesidiroma.it
SUMMARY:Celebra la Messa nella parrocchia dei Santi Francesco e Caterina Patroni d’Italia
DESCRIPTION:Celebra la Messa nella parrocchia dei Santi Francesco e Caterina Patroni d’Italia. \n
URL:https://www.diocesidiroma.it/event/celebra-la-messa-nella-parrocchia-dei-santi-francesco-e-caterina-patroni-ditalia/
CATEGORIES:NON USARE --- Agenda del Vicario
END:VEVENT
END:VCALENDAR