BEGIN:VCALENDAR
VERSION:2.0
PRODID:-//DIOCESI DI ROMA - ECPv4.6.14.1//NONSGML v1.0//EN
CALSCALE:GREGORIAN
METHOD:PUBLISH
X-WR-CALNAME:DIOCESI DI ROMA
X-ORIGINAL-URL:https://www.diocesidiroma.it
X-WR-CALDESC:Eventi per DIOCESI DI ROMA
BEGIN:VEVENT
DTSTART;TZID=Europe/Rome:20190922T120000
DTEND;TZID=Europe/Rome:20190922T130000
DTSTAMP:20260420T230253
CREATED:20190913T075742Z
LAST-MODIFIED:20190913T075742Z
UID:8272-1569153600-1569157200@www.diocesidiroma.it
SUMMARY:Celebra la Messa nella parrocchia dei Santi Pietro e Paolo
DESCRIPTION:Celebra la Messa nella parrocchia dei Santi Pietro e Paolo. \n
URL:https://www.diocesidiroma.it/event/celebra-la-messa-nella-parrocchia-dei-santi-pietro-e-paolo/
CATEGORIES:NON USARE --- Agenda del Vicario
END:VEVENT
END:VCALENDAR