BEGIN:VCALENDAR
VERSION:2.0
PRODID:-//DIOCESI DI ROMA - ECPv4.6.14.1//NONSGML v1.0//EN
CALSCALE:GREGORIAN
METHOD:PUBLISH
X-WR-CALNAME:DIOCESI DI ROMA
X-ORIGINAL-URL:https://www.diocesidiroma.it
X-WR-CALDESC:Eventi per DIOCESI DI ROMA
BEGIN:VEVENT
DTSTART;TZID=Europe/Rome:20210307T110000
DTEND;TZID=Europe/Rome:20210307T110000
DTSTAMP:20260421T003118
CREATED:20210226T093649Z
LAST-MODIFIED:20210226T093649Z
UID:13916-1615114800-1615114800@www.diocesidiroma.it
SUMMARY:Celebra la Messa nella parrocchia dei Santi Urbano e Lorenzo a Prima Porta
DESCRIPTION:Celebra la Messa nella parrocchia dei Santi Urbano e Lorenzo a Prima Porta. \n
URL:https://www.diocesidiroma.it/event/celebra-la-messa-nella-parrocchia-dei-santi-urbano-e-lorenzo-a-prima-porta/
CATEGORIES:NON USARE --- Agenda del Vicario
END:VEVENT
END:VCALENDAR