BEGIN:VCALENDAR
VERSION:2.0
PRODID:-//DIOCESI DI ROMA - ECPv4.6.14.1//NONSGML v1.0//EN
CALSCALE:GREGORIAN
METHOD:PUBLISH
X-WR-CALNAME:DIOCESI DI ROMA
X-ORIGINAL-URL:https://www.diocesidiroma.it
X-WR-CALDESC:Eventi per DIOCESI DI ROMA
BEGIN:VEVENT
DTSTART;TZID=Europe/Rome:20191116T203000
DTEND;TZID=Europe/Rome:20191116T203000
DTSTAMP:20260420T231448
CREATED:20191108T082651Z
LAST-MODIFIED:20191108T082651Z
UID:9216-1573936200-1573936200@www.diocesidiroma.it
SUMMARY:Celebra la Messa nella parrocchia della Natività di Nostro Signore Gesù Cristo in occasione dei 50 anni di presenza del cammino neocatecumenale
DESCRIPTION:Celebra la Messa nella parrocchia della Natività di Nostro Signore Gesù Cristo in occasione dei 50 anni di presenza del cammino neocatecumenale. \n
URL:https://www.diocesidiroma.it/event/celebra-la-messa-nella-parrocchia-della-nativita-di-nostro-signore-gesu-cristo-in-occasione-dei-50-anni-di-presenza-del-cammino-neocatecumenale/
CATEGORIES:NON USARE --- Agenda del Vicario
END:VEVENT
END:VCALENDAR