BEGIN:VCALENDAR
VERSION:2.0
PRODID:-//DIOCESI DI ROMA - ECPv4.6.14.1//NONSGML v1.0//EN
CALSCALE:GREGORIAN
METHOD:PUBLISH
X-WR-CALNAME:DIOCESI DI ROMA
X-ORIGINAL-URL:https://www.diocesidiroma.it
X-WR-CALDESC:Eventi per DIOCESI DI ROMA
BEGIN:VEVENT
DTSTART;TZID=Europe/Rome:20201220T110000
DTEND;TZID=Europe/Rome:20201220T110000
DTSTAMP:20260420T231330
CREATED:20201211T122354Z
LAST-MODIFIED:20201211T122359Z
UID:12794-1608462000-1608462000@www.diocesidiroma.it
SUMMARY:Celebra la Messa nella parrocchia della Resurrezione di Nostro Signore di Gesù Cristo
DESCRIPTION:Celebra la Messa nella parrocchia della Resurrezione di Nostro Signore di Gesù Cristo. \n
URL:https://www.diocesidiroma.it/event/celebra-la-messa-nella-parrocchia-della-resurrezione-di-nostro-signore-di-gesu-cristo/
CATEGORIES:NON USARE --- Agenda del Vicario
END:VEVENT
END:VCALENDAR