BEGIN:VCALENDAR
VERSION:2.0
PRODID:-//DIOCESI DI ROMA - ECPv4.6.14.1//NONSGML v1.0//EN
CALSCALE:GREGORIAN
METHOD:PUBLISH
X-WR-CALNAME:DIOCESI DI ROMA
X-ORIGINAL-URL:https://www.diocesidiroma.it
X-WR-CALDESC:Eventi per DIOCESI DI ROMA
BEGIN:VEVENT
DTSTART;TZID=Europe/Rome:20190304T183000
DTEND;TZID=Europe/Rome:20190304T183000
DTSTAMP:20260421T005936
CREATED:20190301T072716Z
LAST-MODIFIED:20190301T072716Z
UID:6850-1551724200-1551724200@www.diocesidiroma.it
SUMMARY:Celebra la Messa nella parrocchia della Santissima Trinità a Villa Chigi per il 40° di consacrazione della chiesa
DESCRIPTION:Celebra la Messa nella parrocchia della Santissima Trinità a Villa Chigi per il 40° di consacrazione della chiesa.  \n
URL:https://www.diocesidiroma.it/event/celebra-la-messa-nella-parrocchia-della-santissima-trinita-a-villa-chigi-per-il-40-di-consacrazione-della-chiesa/
CATEGORIES:NON USARE --- Agenda del Vicario
END:VEVENT
END:VCALENDAR