BEGIN:VCALENDAR
VERSION:2.0
PRODID:-//DIOCESI DI ROMA - ECPv4.6.14.1//NONSGML v1.0//EN
CALSCALE:GREGORIAN
METHOD:PUBLISH
X-WR-CALNAME:DIOCESI DI ROMA
X-ORIGINAL-URL:https://www.diocesidiroma.it
X-WR-CALDESC:Eventi per DIOCESI DI ROMA
BEGIN:VEVENT
DTSTART;TZID=Europe/Rome:20200308T113000
DTEND;TZID=Europe/Rome:20200308T113000
DTSTAMP:20260420T212621
CREATED:20200228T105244Z
LAST-MODIFIED:20200228T105244Z
UID:10239-1583667000-1583667000@www.diocesidiroma.it
SUMMARY:Celebra la Messa nella parrocchia della Trasfigurazione di Nostro Signore Gesù Cristo
DESCRIPTION:Celebra la Messa nella parrocchia della Trasfigurazione di Nostro Signore Gesù Cristo. \n
URL:https://www.diocesidiroma.it/event/celebra-la-messa-nella-parrocchia-della-trasfigurazione-di-nostro-signore-gesu-cristo/
CATEGORIES:NON USARE --- Agenda del Vicario
END:VEVENT
END:VCALENDAR