BEGIN:VCALENDAR
VERSION:2.0
PRODID:-//DIOCESI DI ROMA - ECPv4.6.14.1//NONSGML v1.0//EN
CALSCALE:GREGORIAN
METHOD:PUBLISH
X-WR-CALNAME:DIOCESI DI ROMA
X-ORIGINAL-URL:https://www.diocesidiroma.it
X-WR-CALDESC:Eventi per DIOCESI DI ROMA
BEGIN:VEVENT
DTSTART;TZID=Europe/Rome:20231119T103000
DTEND;TZID=Europe/Rome:20231119T103000
DTSTAMP:20260420T213545
CREATED:20231110T120307Z
LAST-MODIFIED:20231110T120311Z
UID:27870-1700389800-1700389800@www.diocesidiroma.it
SUMMARY:Celebra la Messa nella parrocchia dell’Ascensione di Nostro Signore Gesù Cristo in occasione della visita pastorale
DESCRIPTION:Celebra la Messa nella parrocchia dell’Ascensione di Nostro Signore Gesù Cristo in occasione della visita pastorale. \n
URL:https://www.diocesidiroma.it/event/celebra-la-messa-nella-parrocchia-dellascensione-di-nostro-signore-gesu-cristo-in-occasione-della-visita-pastorale/
CATEGORIES:NON USARE --- Agenda del Vicario
END:VEVENT
END:VCALENDAR