BEGIN:VCALENDAR
VERSION:2.0
PRODID:-//DIOCESI DI ROMA - ECPv4.6.14.1//NONSGML v1.0//EN
CALSCALE:GREGORIAN
METHOD:PUBLISH
X-WR-CALNAME:DIOCESI DI ROMA
X-ORIGINAL-URL:https://www.diocesidiroma.it
X-WR-CALDESC:Eventi per DIOCESI DI ROMA
BEGIN:VEVENT
DTSTART;TZID=Europe/Rome:20180915T180000
DTEND;TZID=Europe/Rome:20180915T190000
DTSTAMP:20260423T003845
CREATED:20180907T101132Z
LAST-MODIFIED:20180907T101132Z
UID:4304-1537034400-1537038000@www.diocesidiroma.it
SUMMARY:Celebra la Messa nella parrocchia di Gesù Divin Lavoratore
DESCRIPTION:Alle ore 18 celebra la Messa nella parrocchia di Gesù Divin Lavoratore.  \n
URL:https://www.diocesidiroma.it/event/celebra-la-messa-nella-parrocchia-di-gesu-divin-lavoratore/
CATEGORIES:NON USARE --- Agenda del Vicario
END:VEVENT
END:VCALENDAR