BEGIN:VCALENDAR
VERSION:2.0
PRODID:-//DIOCESI DI ROMA - ECPv4.6.14.1//NONSGML v1.0//EN
CALSCALE:GREGORIAN
METHOD:PUBLISH
X-WR-CALNAME:DIOCESI DI ROMA
X-ORIGINAL-URL:https://www.diocesidiroma.it
X-WR-CALDESC:Eventi per DIOCESI DI ROMA
BEGIN:VEVENT
DTSTART;TZID=Europe/Rome:20180923T113000
DTEND;TZID=Europe/Rome:20180923T123000
DTSTAMP:20260422T112432
CREATED:20180917T101000Z
LAST-MODIFIED:20180917T101000Z
UID:4613-1537702200-1537705800@www.diocesidiroma.it
SUMMARY:Celebra la Messa nella parrocchia di Gesù Divin Salvatore
DESCRIPTION:Celebra la Messa nella parrocchia di Gesù Divin Salvatore. \n
URL:https://www.diocesidiroma.it/event/celebra-la-messa-nella-parrocchia-di-gesu-divin-salvatore/
CATEGORIES:NON USARE --- Agenda del Vicario
END:VEVENT
END:VCALENDAR